BEGIN:VCALENDAR
VERSION:2.0
PRODID:-//Grounded Kids Yoga - ECPv6.15.20//NONSGML v1.0//EN
CALSCALE:GREGORIAN
METHOD:PUBLISH
X-WR-CALNAME:Grounded Kids Yoga
X-ORIGINAL-URL:https://groundedkids.com
X-WR-CALDESC:Events for Grounded Kids Yoga
REFRESH-INTERVAL;VALUE=DURATION:PT1H
X-Robots-Tag:noindex
X-PUBLISHED-TTL:PT1H
BEGIN:VTIMEZONE
TZID:America/New_York
BEGIN:DAYLIGHT
TZOFFSETFROM:-0500
TZOFFSETTO:-0400
TZNAME:EDT
DTSTART:20250309T070000
END:DAYLIGHT
BEGIN:STANDARD
TZOFFSETFROM:-0400
TZOFFSETTO:-0500
TZNAME:EST
DTSTART:20251102T060000
END:STANDARD
BEGIN:DAYLIGHT
TZOFFSETFROM:-0500
TZOFFSETTO:-0400
TZNAME:EDT
DTSTART:20260308T070000
END:DAYLIGHT
BEGIN:STANDARD
TZOFFSETFROM:-0400
TZOFFSETTO:-0500
TZNAME:EST
DTSTART:20261101T060000
END:STANDARD
BEGIN:DAYLIGHT
TZOFFSETFROM:-0500
TZOFFSETTO:-0400
TZNAME:EDT
DTSTART:20270314T070000
END:DAYLIGHT
BEGIN:STANDARD
TZOFFSETFROM:-0400
TZOFFSETTO:-0500
TZNAME:EST
DTSTART:20271107T060000
END:STANDARD
END:VTIMEZONE
BEGIN:VEVENT
DTSTART;TZID=America/New_York:20261113T180000
DTEND;TZID=America/New_York:20261115T183000
DTSTAMP:20260421T005010
CREATED:20260420T193436Z
LAST-MODIFIED:20260420T210128Z
UID:10000440-1794592800-1794767400@groundedkids.com
SUMMARY:Step 3: Refine Your Teaching\, Include Creativity & Family Yoga
DESCRIPTION:This 22-hour training has a prerequisite of Step 1: Get Grounded in Children’s Yoga \n\n\n\nWhat You’ll Learn: \n\n\n\n\nSystematically refine your teaching skills\n\n\n\nLearn how to harness the power of each of the 5 elements to polish your own practice and teaching delivery.\n\n\n\nExpand your understanding of each part of a Grounded Kids lesson plan.\n\n\n\nExperience the elements of a lesson plan in action – teach\, reflect and refine.\n\n\n\nCreate themes that inspire and motivate students of all ages and abilities.\n\n\n\nGo deeper into the Grounded Kids 11 essential alignment actions.\n\n\n\nExplore effective sequencing and smooth transitioning.\n\n\n\nElevate your classes by effectively including literature\, art\, music and more.\n\n\n\nDiscover what it means for you to teach with finesse and authenticity.\n\n\n\nFine tune observation skills\, teach to what you see\, and learn the art of effective verbal adjustments.\n\n\n\nCreate and teach a dynamic Family Yoga class.\n\n\n\n\nTraining Schedule: \n\n\n\n\nFriday\, November 13: 6:00–9:00 PM\n\n\n\nSaturday\, November 14: 9:30 AM–6:30 PM\n\n\n\nSunday\, November 15: 9:30 AM–6:30 PM\n\n\n\n\nEarly Bird Ends November 1\, 2026 \n\n\n\nWhat is Included: Click to see \n\n\n\nChakra Color Code Posters Green & Blue \n\n\n\nYour printed Step 3 Training Manual \n\n\n\n5 Elements Curriculum \n\n\n\n5 Elements Student Workbook \n\n\n\nChakra Pose Posters Green & Blue
URL:https://groundedkids.com/event/step-3-refine-your-teaching-include-creativity-family-yoga/
LOCATION:House of Grounded\, 115 Milton Park Ct\, Alpharetta\, Georgia\, 30022\, United States
CATEGORIES:Step 3,Trainings
ATTACH;FMTTYPE=image/jpeg:https://groundedkids.com/wp-content/uploads/2025/07/step-3-kids-yoga-training-group-photo.png-1.jpeg
END:VEVENT
BEGIN:VEVENT
DTSTART;TZID=America/New_York:20261204T180000
DTEND;TZID=America/New_York:20261206T183000
DTSTAMP:20260421T005010
CREATED:20260420T200138Z
LAST-MODIFIED:20260420T213242Z
UID:10000441-1796407200-1796581800@groundedkids.com
SUMMARY:Step 4: Trauma-Informed\, School Implementation\, Applied Anatomy\, 1-1\, & Business Development
DESCRIPTION:This 22-hour training has a prerequisite of step 1 and at least one other Grounded Kids training step. \n\n\n\nWhat You’ll Learn: \n\n\n\n\nGather to collaborate\, complete and celebrate your Quest for Elevation.\n\n\n\nIntrospection and conversations to inspire best practices when teaching yoga to children.\n\n\n\nTrauma Sensitive yoga training based on up-to-date research and expertise in the field.\n\n\n\nUser friendly information about PTSD and neurological changes that occur from trauma\, chronic pain and recurrent stress.\n\n\n\nProper technique and reasons for manual adjustments.\n\n\n\nGeneral anatomy and physiology as applied to teaching this information to children and teens in yoga.\n\n\n\nPersonalized Yoga – A toolkit for including this offering as a yoga teacher.\n\n\n\nUnderstand how to bring yoga into a school and its impact on students\, teachers\, administration and the community.\n\n\n\nHow to teach a curriculum-based class in a physical education/health department as well as in a classroom with desks.\n\n\n\nDiscuss teaching opportunities and common scenarios including potential behavioral challenges and strategies for dealing with them.\n\n\n\nGet down to business creating your vision and making plans to manifest your dreams. Some specifics include establishing a company\, insurance\, waivers\, and promotional materials.\n\n\n\n\nTraining Schedule: \n\n\n\n\nFriday\, December 4: 6:00–9:00 PM\n\n\n\nSaturday\, December 5: 9:30 AM–6:30 PM\n\n\n\nSunday\, December 6: 9:30 AM–6:30 PM\n\n\n\n\nEarly Bird Ends November 20\, 2026 \n\n\n\nWhat is Included: Click to see \n\n\n\nFocus In Time School Curriculum \n\n\n\nYour printed Step 4 Training Manual \n\n\n\nGrounded in Color Curriculum \n\n\n\nSmall Poster (14×14) \n\n\n\nChakra Pose Posters Indigo & Purple \n\n\n\nChakra Color Code Posters Indigo & Purple
URL:https://groundedkids.com/event/step-4-trauma-informed-school-implementation-applied-anatomy-1-1-business-development-2/
LOCATION:House of Grounded\, 115 Milton Park Ct\, Alpharetta\, Georgia\, 30022\, United States
CATEGORIES:Step 4,Trainings
ATTACH;FMTTYPE=image/png:https://groundedkids.com/wp-content/uploads/2025/07/kids-yoga-step-4-certification-group-pose-circle.jpg-4.png
END:VEVENT
END:VCALENDAR