BEGIN:VCALENDAR
VERSION:2.0
PRODID:-//Grounded Kids Yoga - ECPv6.15.20//NONSGML v1.0//EN
CALSCALE:GREGORIAN
METHOD:PUBLISH
X-ORIGINAL-URL:https://groundedkids.com
X-WR-CALDESC:Events for Grounded Kids Yoga
REFRESH-INTERVAL;VALUE=DURATION:PT1H
X-Robots-Tag:noindex
X-PUBLISHED-TTL:PT1H
BEGIN:VTIMEZONE
TZID:America/New_York
BEGIN:DAYLIGHT
TZOFFSETFROM:-0500
TZOFFSETTO:-0400
TZNAME:EDT
DTSTART:20250309T070000
END:DAYLIGHT
BEGIN:STANDARD
TZOFFSETFROM:-0400
TZOFFSETTO:-0500
TZNAME:EST
DTSTART:20251102T060000
END:STANDARD
BEGIN:DAYLIGHT
TZOFFSETFROM:-0500
TZOFFSETTO:-0400
TZNAME:EDT
DTSTART:20260308T070000
END:DAYLIGHT
BEGIN:STANDARD
TZOFFSETFROM:-0400
TZOFFSETTO:-0500
TZNAME:EST
DTSTART:20261101T060000
END:STANDARD
BEGIN:DAYLIGHT
TZOFFSETFROM:-0500
TZOFFSETTO:-0400
TZNAME:EDT
DTSTART:20270314T070000
END:DAYLIGHT
BEGIN:STANDARD
TZOFFSETFROM:-0400
TZOFFSETTO:-0500
TZNAME:EST
DTSTART:20271107T060000
END:STANDARD
END:VTIMEZONE
BEGIN:VEVENT
DTSTART;TZID=America/New_York:20260331T141500
DTEND;TZID=America/New_York:20260331T150000
DTSTAMP:20260420T170413
CREATED:20251120T175602Z
LAST-MODIFIED:20251120T175604Z
UID:10000297-1774966500-1774969200@groundedkids.com
SUMMARY:Buckhead Prep PreK and K Yoga Club Spring 2026
DESCRIPTION:
URL:https://groundedkids.com/event/buckhead-prep-prek-and-k-yoga-club-spring-2026/2026-03-31/
CATEGORIES:Yoga Clubs
END:VEVENT
BEGIN:VEVENT
DTSTART;TZID=America/New_York:20260402T140500
DTEND;TZID=America/New_York:20260402T144500
DTSTAMP:20260420T170413
CREATED:20251202T183625Z
LAST-MODIFIED:20251202T210720Z
UID:10000333-1775138700-1775141100@groundedkids.com
SUMMARY:Fulton Science Academy Pre-K & K Yoga Club spring 2026
DESCRIPTION:
URL:https://groundedkids.com/event/fulton-science-academy-pre-k-k-yoga-club-spring-2026/2026-04-02/
CATEGORIES:Yoga Clubs
END:VEVENT
BEGIN:VEVENT
DTSTART;TZID=America/New_York:20260402T145000
DTEND;TZID=America/New_York:20260402T155000
DTSTAMP:20260420T170413
CREATED:20251202T195738Z
LAST-MODIFIED:20251202T195934Z
UID:10000352-1775141400-1775145000@groundedkids.com
SUMMARY:FSA 3rd-5th Grade Yoga Club spring 2026
DESCRIPTION:
URL:https://groundedkids.com/event/fsa-3rd-5th-grade-yoga-club-spring-2026/2026-04-02/
CATEGORIES:Yoga Clubs
END:VEVENT
BEGIN:VEVENT
DTSTART;TZID=America/New_York:20260403T143000
DTEND;TZID=America/New_York:20260403T153000
DTSTAMP:20260420T170413
CREATED:20251205T172903Z
LAST-MODIFIED:20251205T174818Z
UID:10000386-1775226600-1775230200@groundedkids.com
SUMMARY:Highpoint Yoga Club spring 2026
DESCRIPTION:
URL:https://groundedkids.com/event/highpoint-yoga-club-spring-2026/2026-04-03/
CATEGORIES:Yoga Clubs
END:VEVENT
BEGIN:VEVENT
DTSTART;TZID=America/New_York:20260403T143000
DTEND;TZID=America/New_York:20260403T153000
DTSTAMP:20260420T170413
CREATED:20251218T171953Z
LAST-MODIFIED:20251218T172828Z
UID:10000432-1775226600-1775230200@groundedkids.com
SUMMARY:Ocee Yoga Club Spring 2026
DESCRIPTION:
URL:https://groundedkids.com/event/ocee-yoga-club-spring-2026/2026-04-03/
CATEGORIES:Yoga Clubs
END:VEVENT
BEGIN:VEVENT
DTSTART;TZID=America/New_York:20260403T144500
DTEND;TZID=America/New_York:20260403T154500
DTSTAMP:20260420T170413
CREATED:20251215T014651Z
LAST-MODIFIED:20251215T014921Z
UID:10000402-1775227500-1775231100@groundedkids.com
SUMMARY:Laurel Ridge Yoga Club
DESCRIPTION:
URL:https://groundedkids.com/event/laurel-ridge-yoga-club-3/2026-04-03/
CATEGORIES:Yoga Clubs
END:VEVENT
BEGIN:VEVENT
DTSTART;TZID=America/New_York:20260407T141500
DTEND;TZID=America/New_York:20260407T150000
DTSTAMP:20260420T170413
CREATED:20251120T175602Z
LAST-MODIFIED:20251120T175604Z
UID:10000298-1775571300-1775574000@groundedkids.com
SUMMARY:Buckhead Prep PreK and K Yoga Club Spring 2026
DESCRIPTION:
URL:https://groundedkids.com/event/buckhead-prep-prek-and-k-yoga-club-spring-2026/2026-04-07/
CATEGORIES:Yoga Clubs
END:VEVENT
BEGIN:VEVENT
DTSTART;TZID=America/New_York:20260413T143000
DTEND;TZID=America/New_York:20260413T153000
DTSTAMP:20260420T170413
CREATED:20251203T165220Z
LAST-MODIFIED:20251203T165600Z
UID:10000369-1776090600-1776094200@groundedkids.com
SUMMARY:Findley Oaks Yoga Club spring 2026
DESCRIPTION:
URL:https://groundedkids.com/event/findley-oaks-yoga-club-spring-2026/2026-04-13/
CATEGORIES:Yoga Clubs
END:VEVENT
BEGIN:VEVENT
DTSTART;TZID=America/New_York:20260413T143000
DTEND;TZID=America/New_York:20260413T153000
DTSTAMP:20260420T170413
CREATED:20251216T001414Z
LAST-MODIFIED:20251216T001418Z
UID:10000416-1776090600-1776094200@groundedkids.com
SUMMARY:New Prospect Yoga Club Spring 2026
DESCRIPTION:
URL:https://groundedkids.com/event/new-prospect-yoga-club-spring-2026/2026-04-13/
CATEGORIES:Yoga Clubs
END:VEVENT
BEGIN:VEVENT
DTSTART;TZID=America/New_York:20260414T140500
DTEND;TZID=America/New_York:20260414T150500
DTSTAMP:20260420T170413
CREATED:20251202T172549Z
LAST-MODIFIED:20251202T172945Z
UID:10000316-1776175500-1776179100@groundedkids.com
SUMMARY:FSA 1st & 2nd grade Yoga club spring 2026
DESCRIPTION:This class supports growing bodies and big feelings. Ms. S guides students through grounding poses\, focused breathing\, and creative self-expression to build balance\, self-regulation\, and classroom-ready calm. \n\n\n\nEach child will receive a brand new deluxe yoga mat & strap once per school year to keep and bring to school on yoga club day! \n\n\n\nTuesdays \n\n\n\nFirst Day: January 6\, 2026 \n\n\n\nJan 13\, 20\, 27\, Feb 3\, 10\, 17\, 24\, March 3\, 10\, 17\, 24\, 31\, April 14\, 21\, 28\, May 5 \n\n\n\nLast Day: May 12\, 2026 \n\n\n\nNo Class April 7
URL:https://groundedkids.com/event/fsa-1st-2nd-grade-yoga-club-spring-2026/2026-04-14/
CATEGORIES:Yoga Clubs
END:VEVENT
BEGIN:VEVENT
DTSTART;TZID=America/New_York:20260414T141500
DTEND;TZID=America/New_York:20260414T150000
DTSTAMP:20260420T170413
CREATED:20251120T175602Z
LAST-MODIFIED:20251120T175604Z
UID:10000299-1776176100-1776178800@groundedkids.com
SUMMARY:Buckhead Prep PreK and K Yoga Club Spring 2026
DESCRIPTION:
URL:https://groundedkids.com/event/buckhead-prep-prek-and-k-yoga-club-spring-2026/2026-04-14/
CATEGORIES:Yoga Clubs
END:VEVENT
BEGIN:VEVENT
DTSTART;TZID=America/New_York:20260416T140500
DTEND;TZID=America/New_York:20260416T144500
DTSTAMP:20260420T170413
CREATED:20251202T183625Z
LAST-MODIFIED:20251202T210720Z
UID:10000334-1776348300-1776350700@groundedkids.com
SUMMARY:Fulton Science Academy Pre-K & K Yoga Club spring 2026
DESCRIPTION:
URL:https://groundedkids.com/event/fulton-science-academy-pre-k-k-yoga-club-spring-2026/2026-04-16/
CATEGORIES:Yoga Clubs
END:VEVENT
BEGIN:VEVENT
DTSTART;TZID=America/New_York:20260416T145000
DTEND;TZID=America/New_York:20260416T155000
DTSTAMP:20260420T170413
CREATED:20251202T195738Z
LAST-MODIFIED:20251202T195934Z
UID:10000353-1776351000-1776354600@groundedkids.com
SUMMARY:FSA 3rd-5th Grade Yoga Club spring 2026
DESCRIPTION:
URL:https://groundedkids.com/event/fsa-3rd-5th-grade-yoga-club-spring-2026/2026-04-16/
CATEGORIES:Yoga Clubs
END:VEVENT
BEGIN:VEVENT
DTSTART;TZID=America/New_York:20260417T143000
DTEND;TZID=America/New_York:20260417T153000
DTSTAMP:20260420T170413
CREATED:20251205T172903Z
LAST-MODIFIED:20251205T174818Z
UID:10000387-1776436200-1776439800@groundedkids.com
SUMMARY:Highpoint Yoga Club spring 2026
DESCRIPTION:
URL:https://groundedkids.com/event/highpoint-yoga-club-spring-2026/2026-04-17/
CATEGORIES:Yoga Clubs
END:VEVENT
BEGIN:VEVENT
DTSTART;TZID=America/New_York:20260417T143000
DTEND;TZID=America/New_York:20260417T153000
DTSTAMP:20260420T170413
CREATED:20251218T171953Z
LAST-MODIFIED:20251218T172828Z
UID:10000433-1776436200-1776439800@groundedkids.com
SUMMARY:Ocee Yoga Club Spring 2026
DESCRIPTION:
URL:https://groundedkids.com/event/ocee-yoga-club-spring-2026/2026-04-17/
CATEGORIES:Yoga Clubs
END:VEVENT
BEGIN:VEVENT
DTSTART;TZID=America/New_York:20260417T144500
DTEND;TZID=America/New_York:20260417T154500
DTSTAMP:20260420T170413
CREATED:20251215T014651Z
LAST-MODIFIED:20251215T014921Z
UID:10000403-1776437100-1776440700@groundedkids.com
SUMMARY:Laurel Ridge Yoga Club
DESCRIPTION:
URL:https://groundedkids.com/event/laurel-ridge-yoga-club-3/2026-04-17/
CATEGORIES:Yoga Clubs
END:VEVENT
BEGIN:VEVENT
DTSTART;TZID=America/New_York:20260420T080000
DTEND;TZID=America/New_York:20260420T170000
DTSTAMP:20260420T170413
CREATED:20260420T204137Z
LAST-MODIFIED:20260420T210243Z
UID:10000442-1776672000-1776704400@groundedkids.com
SUMMARY:95 hour Certification Bundle
DESCRIPTION:Get certified to teach kids yoga with depth\, clarity\, and heart. This full four-step bundle gives you the structure to lead\, the tools to adapt\, and the support to make it real. Attend live or online. Mailed materials included for Zoom participants. \n\n\n\nRegister for all 4 steps at once for an extra special discount of $200 off the early bird and $400 off regular registration prices when purchased individually. \n\n\n\nHere are some highlights! \n\n\n\n\n84 Grounded poses including modifications and enhancements\n\n\n\nLesson planning\, theming\, class structure\, scope and sequencing that engages and inspires various populations\n\n\n\nSpecialized mini flows and mantras to balance each chakra and practice creating ones with purpose\n\n\n\nHow to teach 11 essential alignments to children with skill\, clarity and creativity\n\n\n\nGeneral anatomy and physiology\n\n\n\nConduct management based on each student’s constitution and prevailing elements\n\n\n\nCommon scenarios including potential behavioral challenges and strategies for dealing with them\n\n\n\nThe what\, why and how of yoga for children with Down Syndrome\, Autism Spectrum Disorder\, ADHD and other special needs\n\n\n\nSkills to assess and effectively respond to the individual child through group and personalized yoga classes\n\n\n\nPractical teaching experience with ages 3-teens and those with special needs\n\n\n\nLiterature\, art\, storytelling\, music and games as elevations\n\n\n\nFine tune observation skills\, teach to what you see\, and learn effective manual and verbal adjustments\n\n\n\nPersonalized feedback to polish your teaching practices to become an effective\, dynamic teacher\n\n\n\nHow to bring yoga into a school and it’s impact on students\, teachers\, administration and the community\n\n\n\nCurriculum-based yoga for P.E.\, Health\, and in a classroom with desks\n\n\n\nTrauma Sensitive yoga training for youth\n\n\n\nUser friendly info about PTSD and Neurological changes from trauma\, chronic pain and recurrent stress\n\n\n\nIntrospection and conversations to inspire best practices when teaching yoga to children\n\n\n\nMindfulness\, meditation\, mudras and breathing techniques appropriate for ages 3 – teens\n\n\n\nCreate your vision based action plan and receive tools to support your business\n\n\n\n\nFor a more comprehensive list of what is included in each step\, including all of the materials that will be mailed to you if you attend on Zoom\,  please see the detailed course descriptions under step 1 – 4 trainings.  
URL:https://groundedkids.com/event/95-hour-certification-bundle/
LOCATION:House of Grounded\, 115 Milton Park Ct\, Alpharetta\, Georgia\, 30022\, United States
CATEGORIES:95 hour Certification Bundle,Trainings
ATTACH;FMTTYPE=image/png:https://groundedkids.com/wp-content/uploads/2025/06/Transparent-Price-Structure.png
END:VEVENT
BEGIN:VEVENT
DTSTART;TZID=America/New_York:20260420T143000
DTEND;TZID=America/New_York:20260420T153000
DTSTAMP:20260420T170413
CREATED:20251203T165220Z
LAST-MODIFIED:20251203T165600Z
UID:10000370-1776695400-1776699000@groundedkids.com
SUMMARY:Findley Oaks Yoga Club spring 2026
DESCRIPTION:
URL:https://groundedkids.com/event/findley-oaks-yoga-club-spring-2026/2026-04-20/
CATEGORIES:Yoga Clubs
END:VEVENT
BEGIN:VEVENT
DTSTART;TZID=America/New_York:20260420T143000
DTEND;TZID=America/New_York:20260420T153000
DTSTAMP:20260420T170413
CREATED:20251216T001414Z
LAST-MODIFIED:20251216T001418Z
UID:10000417-1776695400-1776699000@groundedkids.com
SUMMARY:New Prospect Yoga Club Spring 2026
DESCRIPTION:
URL:https://groundedkids.com/event/new-prospect-yoga-club-spring-2026/2026-04-20/
CATEGORIES:Yoga Clubs
END:VEVENT
BEGIN:VEVENT
DTSTART;TZID=America/New_York:20260421T140500
DTEND;TZID=America/New_York:20260421T150500
DTSTAMP:20260420T170413
CREATED:20251202T172549Z
LAST-MODIFIED:20251202T172945Z
UID:10000317-1776780300-1776783900@groundedkids.com
SUMMARY:FSA 1st & 2nd grade Yoga club spring 2026
DESCRIPTION:This class supports growing bodies and big feelings. Ms. S guides students through grounding poses\, focused breathing\, and creative self-expression to build balance\, self-regulation\, and classroom-ready calm. \n\n\n\nEach child will receive a brand new deluxe yoga mat & strap once per school year to keep and bring to school on yoga club day! \n\n\n\nTuesdays \n\n\n\nFirst Day: January 6\, 2026 \n\n\n\nJan 13\, 20\, 27\, Feb 3\, 10\, 17\, 24\, March 3\, 10\, 17\, 24\, 31\, April 14\, 21\, 28\, May 5 \n\n\n\nLast Day: May 12\, 2026 \n\n\n\nNo Class April 7
URL:https://groundedkids.com/event/fsa-1st-2nd-grade-yoga-club-spring-2026/2026-04-21/
CATEGORIES:Yoga Clubs
END:VEVENT
BEGIN:VEVENT
DTSTART;TZID=America/New_York:20260421T141500
DTEND;TZID=America/New_York:20260421T150000
DTSTAMP:20260420T170413
CREATED:20251120T175602Z
LAST-MODIFIED:20251120T175604Z
UID:10000300-1776780900-1776783600@groundedkids.com
SUMMARY:Buckhead Prep PreK and K Yoga Club Spring 2026
DESCRIPTION:
URL:https://groundedkids.com/event/buckhead-prep-prek-and-k-yoga-club-spring-2026/2026-04-21/
CATEGORIES:Yoga Clubs
END:VEVENT
BEGIN:VEVENT
DTSTART;TZID=America/New_York:20260423T140500
DTEND;TZID=America/New_York:20260423T144500
DTSTAMP:20260420T170413
CREATED:20251202T183625Z
LAST-MODIFIED:20251202T210720Z
UID:10000335-1776953100-1776955500@groundedkids.com
SUMMARY:Fulton Science Academy Pre-K & K Yoga Club spring 2026
DESCRIPTION:
URL:https://groundedkids.com/event/fulton-science-academy-pre-k-k-yoga-club-spring-2026/2026-04-23/
CATEGORIES:Yoga Clubs
END:VEVENT
BEGIN:VEVENT
DTSTART;TZID=America/New_York:20260423T145000
DTEND;TZID=America/New_York:20260423T155000
DTSTAMP:20260420T170413
CREATED:20251202T195738Z
LAST-MODIFIED:20251202T195934Z
UID:10000354-1776955800-1776959400@groundedkids.com
SUMMARY:FSA 3rd-5th Grade Yoga Club spring 2026
DESCRIPTION:
URL:https://groundedkids.com/event/fsa-3rd-5th-grade-yoga-club-spring-2026/2026-04-23/
CATEGORIES:Yoga Clubs
END:VEVENT
BEGIN:VEVENT
DTSTART;TZID=America/New_York:20260424T143000
DTEND;TZID=America/New_York:20260424T153000
DTSTAMP:20260420T170413
CREATED:20251205T172903Z
LAST-MODIFIED:20251205T174818Z
UID:10000388-1777041000-1777044600@groundedkids.com
SUMMARY:Highpoint Yoga Club spring 2026
DESCRIPTION:
URL:https://groundedkids.com/event/highpoint-yoga-club-spring-2026/2026-04-24/
CATEGORIES:Yoga Clubs
END:VEVENT
BEGIN:VEVENT
DTSTART;TZID=America/New_York:20260424T143000
DTEND;TZID=America/New_York:20260424T153000
DTSTAMP:20260420T170413
CREATED:20251218T171953Z
LAST-MODIFIED:20251218T172828Z
UID:10000434-1777041000-1777044600@groundedkids.com
SUMMARY:Ocee Yoga Club Spring 2026
DESCRIPTION:
URL:https://groundedkids.com/event/ocee-yoga-club-spring-2026/2026-04-24/
CATEGORIES:Yoga Clubs
END:VEVENT
BEGIN:VEVENT
DTSTART;TZID=America/New_York:20260424T144500
DTEND;TZID=America/New_York:20260424T154500
DTSTAMP:20260420T170413
CREATED:20251215T014651Z
LAST-MODIFIED:20251215T014921Z
UID:10000404-1777041900-1777045500@groundedkids.com
SUMMARY:Laurel Ridge Yoga Club
DESCRIPTION:
URL:https://groundedkids.com/event/laurel-ridge-yoga-club-3/2026-04-24/
CATEGORIES:Yoga Clubs
END:VEVENT
BEGIN:VEVENT
DTSTART;TZID=America/New_York:20260424T180000
DTEND;TZID=America/New_York:20260426T183000
DTSTAMP:20260420T170413
CREATED:20251108T164007Z
LAST-MODIFIED:20251108T192236Z
UID:10000289-1777053600-1777228200@groundedkids.com
SUMMARY:Step 4: Trauma-Informed\, School Implementation\, Applied Anatomy\, 1-1\, & Business Development (4/2026)
DESCRIPTION:This 22-hour training has a prerequisite of step 1 and at least one other Grounded Kids training step. \n\n\n\nWhat You’ll Learn: \n\n\n\n\nGather to collaborate\, complete and celebrate your Quest for Elevation.\n\n\n\nIntrospection and conversations to inspire best practices when teaching yoga to children.\n\n\n\nTrauma Sensitive yoga training based on up-to-date research and expertise in the field.\n\n\n\nUser friendly information about PTSD and neurological changes that occur from trauma\, chronic pain and recurrent stress.\n\n\n\nProper technique and reasons for manual adjustments.\n\n\n\nGeneral anatomy and physiology as applied to teaching this information to children and teens in yoga.\n\n\n\nPersonalized Yoga – A toolkit for including this offering as a yoga teacher.\n\n\n\nUnderstand how to bring yoga into a school and its impact on students\, teachers\, administration and the community.\n\n\n\nHow to teach a curriculum-based class in a physical education/health department as well as in a classroom with desks.\n\n\n\nDiscuss teaching opportunities and common scenarios including potential behavioral challenges and strategies for dealing with them.\n\n\n\nGet down to business creating your vision and making plans to manifest your dreams. Some specifics include establishing a company\, insurance\, waivers\, and promotional materials.\n\n\n\n\nTraining Schedule: \n\n\n\n\nFriday\, April 24: 6:00–9:00 PM\n\n\n\nSaturday\, April 25: 9:30 AM–6:30 PM\n\n\n\nSunday\, April 26: 9:30 AM–6:30 PM\n\n\n\n\nEarly Bird Ends April 3\, 2026 \n\n\n\nWhat is Included: Click to see \n\n\n\nFocus In Time School Curriculum \n\n\n\nYour printed Step 4 Training Manual \n\n\n\nGrounded in Color Curriculum \n\n\n\nSmall Poster (14×14) \n\n\n\nChakra Pose Posters Indigo & Purple \n\n\n\nChakra Color Code Posters Indigo & Purple
URL:https://groundedkids.com/event/step-4-trauma-informed-school-implementation-applied-anatomy-1-1-business-development/
LOCATION:House of Grounded\, 115 Milton Park Ct\, Alpharetta\, Georgia\, 30022\, United States
CATEGORIES:Step 4,Trainings
ATTACH;FMTTYPE=image/png:https://groundedkids.com/wp-content/uploads/2025/07/kids-yoga-training-step-4-pose.png
END:VEVENT
BEGIN:VEVENT
DTSTART;TZID=America/New_York:20260427T143000
DTEND;TZID=America/New_York:20260427T153000
DTSTAMP:20260420T170413
CREATED:20251203T165220Z
LAST-MODIFIED:20251203T165600Z
UID:10000371-1777300200-1777303800@groundedkids.com
SUMMARY:Findley Oaks Yoga Club spring 2026
DESCRIPTION:
URL:https://groundedkids.com/event/findley-oaks-yoga-club-spring-2026/2026-04-27/
CATEGORIES:Yoga Clubs
END:VEVENT
BEGIN:VEVENT
DTSTART;TZID=America/New_York:20260427T143000
DTEND;TZID=America/New_York:20260427T153000
DTSTAMP:20260420T170413
CREATED:20251216T001414Z
LAST-MODIFIED:20251216T001418Z
UID:10000418-1777300200-1777303800@groundedkids.com
SUMMARY:New Prospect Yoga Club Spring 2026
DESCRIPTION:
URL:https://groundedkids.com/event/new-prospect-yoga-club-spring-2026/2026-04-27/
CATEGORIES:Yoga Clubs
END:VEVENT
BEGIN:VEVENT
DTSTART;TZID=America/New_York:20260428T140500
DTEND;TZID=America/New_York:20260428T150500
DTSTAMP:20260420T170413
CREATED:20251202T172549Z
LAST-MODIFIED:20251202T172945Z
UID:10000318-1777385100-1777388700@groundedkids.com
SUMMARY:FSA 1st & 2nd grade Yoga club spring 2026
DESCRIPTION:This class supports growing bodies and big feelings. Ms. S guides students through grounding poses\, focused breathing\, and creative self-expression to build balance\, self-regulation\, and classroom-ready calm. \n\n\n\nEach child will receive a brand new deluxe yoga mat & strap once per school year to keep and bring to school on yoga club day! \n\n\n\nTuesdays \n\n\n\nFirst Day: January 6\, 2026 \n\n\n\nJan 13\, 20\, 27\, Feb 3\, 10\, 17\, 24\, March 3\, 10\, 17\, 24\, 31\, April 14\, 21\, 28\, May 5 \n\n\n\nLast Day: May 12\, 2026 \n\n\n\nNo Class April 7
URL:https://groundedkids.com/event/fsa-1st-2nd-grade-yoga-club-spring-2026/2026-04-28/
CATEGORIES:Yoga Clubs
END:VEVENT
END:VCALENDAR