BEGIN:VCALENDAR
VERSION:2.0
PRODID:-//Grounded Kids Yoga - ECPv6.15.20//NONSGML v1.0//EN
CALSCALE:GREGORIAN
METHOD:PUBLISH
X-ORIGINAL-URL:https://groundedkids.com
X-WR-CALDESC:Events for Grounded Kids Yoga
REFRESH-INTERVAL;VALUE=DURATION:PT1H
X-Robots-Tag:noindex
X-PUBLISHED-TTL:PT1H
BEGIN:VTIMEZONE
TZID:America/New_York
BEGIN:DAYLIGHT
TZOFFSETFROM:-0500
TZOFFSETTO:-0400
TZNAME:EDT
DTSTART:20250309T070000
END:DAYLIGHT
BEGIN:STANDARD
TZOFFSETFROM:-0400
TZOFFSETTO:-0500
TZNAME:EST
DTSTART:20251102T060000
END:STANDARD
BEGIN:DAYLIGHT
TZOFFSETFROM:-0500
TZOFFSETTO:-0400
TZNAME:EDT
DTSTART:20260308T070000
END:DAYLIGHT
BEGIN:STANDARD
TZOFFSETFROM:-0400
TZOFFSETTO:-0500
TZNAME:EST
DTSTART:20261101T060000
END:STANDARD
BEGIN:DAYLIGHT
TZOFFSETFROM:-0500
TZOFFSETTO:-0400
TZNAME:EDT
DTSTART:20270314T070000
END:DAYLIGHT
BEGIN:STANDARD
TZOFFSETFROM:-0400
TZOFFSETTO:-0500
TZNAME:EST
DTSTART:20271107T060000
END:STANDARD
END:VTIMEZONE
BEGIN:VEVENT
DTSTART;TZID=America/New_York:20260430T140500
DTEND;TZID=America/New_York:20260430T144500
DTSTAMP:20260420T190027
CREATED:20251202T183625Z
LAST-MODIFIED:20251202T210720Z
UID:10000336-1777557900-1777560300@groundedkids.com
SUMMARY:Fulton Science Academy Pre-K & K Yoga Club spring 2026
DESCRIPTION:
URL:https://groundedkids.com/event/fulton-science-academy-pre-k-k-yoga-club-spring-2026/2026-04-30/
CATEGORIES:Yoga Clubs
END:VEVENT
BEGIN:VEVENT
DTSTART;TZID=America/New_York:20260430T145000
DTEND;TZID=America/New_York:20260430T155000
DTSTAMP:20260420T190027
CREATED:20251202T195738Z
LAST-MODIFIED:20251202T195934Z
UID:10000355-1777560600-1777564200@groundedkids.com
SUMMARY:FSA 3rd-5th Grade Yoga Club spring 2026
DESCRIPTION:
URL:https://groundedkids.com/event/fsa-3rd-5th-grade-yoga-club-spring-2026/2026-04-30/
CATEGORIES:Yoga Clubs
END:VEVENT
BEGIN:VEVENT
DTSTART;TZID=America/New_York:20260501T143000
DTEND;TZID=America/New_York:20260501T153000
DTSTAMP:20260420T190027
CREATED:20251205T172903Z
LAST-MODIFIED:20251205T174818Z
UID:10000389-1777645800-1777649400@groundedkids.com
SUMMARY:Highpoint Yoga Club spring 2026
DESCRIPTION:
URL:https://groundedkids.com/event/highpoint-yoga-club-spring-2026/2026-05-01/
CATEGORIES:Yoga Clubs
END:VEVENT
BEGIN:VEVENT
DTSTART;TZID=America/New_York:20260501T143000
DTEND;TZID=America/New_York:20260501T153000
DTSTAMP:20260420T190027
CREATED:20251218T171953Z
LAST-MODIFIED:20251218T172828Z
UID:10000435-1777645800-1777649400@groundedkids.com
SUMMARY:Ocee Yoga Club Spring 2026
DESCRIPTION:
URL:https://groundedkids.com/event/ocee-yoga-club-spring-2026/2026-05-01/
CATEGORIES:Yoga Clubs
END:VEVENT
BEGIN:VEVENT
DTSTART;TZID=America/New_York:20260501T144500
DTEND;TZID=America/New_York:20260501T154500
DTSTAMP:20260420T190027
CREATED:20251215T014651Z
LAST-MODIFIED:20251215T014921Z
UID:10000405-1777646700-1777650300@groundedkids.com
SUMMARY:Laurel Ridge Yoga Club
DESCRIPTION:
URL:https://groundedkids.com/event/laurel-ridge-yoga-club-3/2026-05-01/
CATEGORIES:Yoga Clubs
END:VEVENT
BEGIN:VEVENT
DTSTART;TZID=America/New_York:20260504T143000
DTEND;TZID=America/New_York:20260504T153000
DTSTAMP:20260420T190027
CREATED:20251203T165220Z
LAST-MODIFIED:20251203T165600Z
UID:10000372-1777905000-1777908600@groundedkids.com
SUMMARY:Findley Oaks Yoga Club spring 2026
DESCRIPTION:
URL:https://groundedkids.com/event/findley-oaks-yoga-club-spring-2026/2026-05-04/
CATEGORIES:Yoga Clubs
END:VEVENT
BEGIN:VEVENT
DTSTART;TZID=America/New_York:20260504T143000
DTEND;TZID=America/New_York:20260504T153000
DTSTAMP:20260420T190027
CREATED:20251216T001414Z
LAST-MODIFIED:20251216T001418Z
UID:10000419-1777905000-1777908600@groundedkids.com
SUMMARY:New Prospect Yoga Club Spring 2026
DESCRIPTION:
URL:https://groundedkids.com/event/new-prospect-yoga-club-spring-2026/2026-05-04/
CATEGORIES:Yoga Clubs
END:VEVENT
BEGIN:VEVENT
DTSTART;TZID=America/New_York:20260505T140500
DTEND;TZID=America/New_York:20260505T150500
DTSTAMP:20260420T190027
CREATED:20251202T172549Z
LAST-MODIFIED:20251202T172945Z
UID:10000319-1777989900-1777993500@groundedkids.com
SUMMARY:FSA 1st & 2nd grade Yoga club spring 2026
DESCRIPTION:This class supports growing bodies and big feelings. Ms. S guides students through grounding poses\, focused breathing\, and creative self-expression to build balance\, self-regulation\, and classroom-ready calm. \n\n\n\nEach child will receive a brand new deluxe yoga mat & strap once per school year to keep and bring to school on yoga club day! \n\n\n\nTuesdays \n\n\n\nFirst Day: January 6\, 2026 \n\n\n\nJan 13\, 20\, 27\, Feb 3\, 10\, 17\, 24\, March 3\, 10\, 17\, 24\, 31\, April 14\, 21\, 28\, May 5 \n\n\n\nLast Day: May 12\, 2026 \n\n\n\nNo Class April 7
URL:https://groundedkids.com/event/fsa-1st-2nd-grade-yoga-club-spring-2026/2026-05-05/
CATEGORIES:Yoga Clubs
END:VEVENT
BEGIN:VEVENT
DTSTART;TZID=America/New_York:20260507T140500
DTEND;TZID=America/New_York:20260507T144500
DTSTAMP:20260420T190027
CREATED:20251202T183625Z
LAST-MODIFIED:20251202T210720Z
UID:10000337-1778162700-1778165100@groundedkids.com
SUMMARY:Fulton Science Academy Pre-K & K Yoga Club spring 2026
DESCRIPTION:
URL:https://groundedkids.com/event/fulton-science-academy-pre-k-k-yoga-club-spring-2026/2026-05-07/
CATEGORIES:Yoga Clubs
END:VEVENT
BEGIN:VEVENT
DTSTART;TZID=America/New_York:20260507T145000
DTEND;TZID=America/New_York:20260507T155000
DTSTAMP:20260420T190027
CREATED:20251202T195738Z
LAST-MODIFIED:20251202T195934Z
UID:10000356-1778165400-1778169000@groundedkids.com
SUMMARY:FSA 3rd-5th Grade Yoga Club spring 2026
DESCRIPTION:
URL:https://groundedkids.com/event/fsa-3rd-5th-grade-yoga-club-spring-2026/2026-05-07/
CATEGORIES:Yoga Clubs
END:VEVENT
BEGIN:VEVENT
DTSTART;TZID=America/New_York:20260508T143000
DTEND;TZID=America/New_York:20260508T153000
DTSTAMP:20260420T190027
CREATED:20251205T172903Z
LAST-MODIFIED:20251205T174818Z
UID:10000390-1778250600-1778254200@groundedkids.com
SUMMARY:Highpoint Yoga Club spring 2026
DESCRIPTION:
URL:https://groundedkids.com/event/highpoint-yoga-club-spring-2026/2026-05-08/
CATEGORIES:Yoga Clubs
END:VEVENT
BEGIN:VEVENT
DTSTART;TZID=America/New_York:20260508T143000
DTEND;TZID=America/New_York:20260508T153000
DTSTAMP:20260420T190027
CREATED:20251218T171953Z
LAST-MODIFIED:20251218T172828Z
UID:10000436-1778250600-1778254200@groundedkids.com
SUMMARY:Ocee Yoga Club Spring 2026
DESCRIPTION:
URL:https://groundedkids.com/event/ocee-yoga-club-spring-2026/2026-05-08/
CATEGORIES:Yoga Clubs
END:VEVENT
BEGIN:VEVENT
DTSTART;TZID=America/New_York:20260508T144500
DTEND;TZID=America/New_York:20260508T154500
DTSTAMP:20260420T190027
CREATED:20251215T014651Z
LAST-MODIFIED:20251215T014921Z
UID:10000406-1778251500-1778255100@groundedkids.com
SUMMARY:Laurel Ridge Yoga Club
DESCRIPTION:
URL:https://groundedkids.com/event/laurel-ridge-yoga-club-3/2026-05-08/
CATEGORIES:Yoga Clubs
END:VEVENT
BEGIN:VEVENT
DTSTART;TZID=America/New_York:20260511T143000
DTEND;TZID=America/New_York:20260511T153000
DTSTAMP:20260420T190027
CREATED:20251203T165220Z
LAST-MODIFIED:20251203T165600Z
UID:10000373-1778509800-1778513400@groundedkids.com
SUMMARY:Findley Oaks Yoga Club spring 2026
DESCRIPTION:
URL:https://groundedkids.com/event/findley-oaks-yoga-club-spring-2026/2026-05-11/
CATEGORIES:Yoga Clubs
END:VEVENT
BEGIN:VEVENT
DTSTART;TZID=America/New_York:20260511T143000
DTEND;TZID=America/New_York:20260511T153000
DTSTAMP:20260420T190027
CREATED:20251216T001414Z
LAST-MODIFIED:20251216T001418Z
UID:10000420-1778509800-1778513400@groundedkids.com
SUMMARY:New Prospect Yoga Club Spring 2026
DESCRIPTION:
URL:https://groundedkids.com/event/new-prospect-yoga-club-spring-2026/2026-05-11/
CATEGORIES:Yoga Clubs
END:VEVENT
BEGIN:VEVENT
DTSTART;TZID=America/New_York:20260512T140500
DTEND;TZID=America/New_York:20260512T150500
DTSTAMP:20260420T190027
CREATED:20251202T172549Z
LAST-MODIFIED:20251202T172945Z
UID:10000320-1778594700-1778598300@groundedkids.com
SUMMARY:FSA 1st & 2nd grade Yoga club spring 2026
DESCRIPTION:This class supports growing bodies and big feelings. Ms. S guides students through grounding poses\, focused breathing\, and creative self-expression to build balance\, self-regulation\, and classroom-ready calm. \n\n\n\nEach child will receive a brand new deluxe yoga mat & strap once per school year to keep and bring to school on yoga club day! \n\n\n\nTuesdays \n\n\n\nFirst Day: January 6\, 2026 \n\n\n\nJan 13\, 20\, 27\, Feb 3\, 10\, 17\, 24\, March 3\, 10\, 17\, 24\, 31\, April 14\, 21\, 28\, May 5 \n\n\n\nLast Day: May 12\, 2026 \n\n\n\nNo Class April 7
URL:https://groundedkids.com/event/fsa-1st-2nd-grade-yoga-club-spring-2026/2026-05-12/
CATEGORIES:Yoga Clubs
END:VEVENT
BEGIN:VEVENT
DTSTART;TZID=America/New_York:20260514T140500
DTEND;TZID=America/New_York:20260514T144500
DTSTAMP:20260420T190027
CREATED:20251202T183625Z
LAST-MODIFIED:20251202T210720Z
UID:10000338-1778767500-1778769900@groundedkids.com
SUMMARY:Fulton Science Academy Pre-K & K Yoga Club spring 2026
DESCRIPTION:
URL:https://groundedkids.com/event/fulton-science-academy-pre-k-k-yoga-club-spring-2026/2026-05-14/
CATEGORIES:Yoga Clubs
END:VEVENT
BEGIN:VEVENT
DTSTART;TZID=America/New_York:20260514T145000
DTEND;TZID=America/New_York:20260514T155000
DTSTAMP:20260420T190027
CREATED:20251202T195738Z
LAST-MODIFIED:20251202T195934Z
UID:10000357-1778770200-1778773800@groundedkids.com
SUMMARY:FSA 3rd-5th Grade Yoga Club spring 2026
DESCRIPTION:
URL:https://groundedkids.com/event/fsa-3rd-5th-grade-yoga-club-spring-2026/2026-05-14/
CATEGORIES:Yoga Clubs
END:VEVENT
BEGIN:VEVENT
DTSTART;TZID=America/New_York:20260515T143000
DTEND;TZID=America/New_York:20260515T153000
DTSTAMP:20260420T190027
CREATED:20251205T172903Z
LAST-MODIFIED:20251205T174818Z
UID:10000391-1778855400-1778859000@groundedkids.com
SUMMARY:Highpoint Yoga Club spring 2026
DESCRIPTION:
URL:https://groundedkids.com/event/highpoint-yoga-club-spring-2026/2026-05-15/
CATEGORIES:Yoga Clubs
END:VEVENT
BEGIN:VEVENT
DTSTART;TZID=America/New_York:20260515T143000
DTEND;TZID=America/New_York:20260515T153000
DTSTAMP:20260420T190027
CREATED:20251218T171953Z
LAST-MODIFIED:20251218T172828Z
UID:10000437-1778855400-1778859000@groundedkids.com
SUMMARY:Ocee Yoga Club Spring 2026
DESCRIPTION:
URL:https://groundedkids.com/event/ocee-yoga-club-spring-2026/2026-05-15/
CATEGORIES:Yoga Clubs
END:VEVENT
BEGIN:VEVENT
DTSTART;TZID=America/New_York:20260515T144500
DTEND;TZID=America/New_York:20260515T154500
DTSTAMP:20260420T190027
CREATED:20251215T014651Z
LAST-MODIFIED:20251215T014921Z
UID:10000407-1778856300-1778859900@groundedkids.com
SUMMARY:Laurel Ridge Yoga Club
DESCRIPTION:
URL:https://groundedkids.com/event/laurel-ridge-yoga-club-3/2026-05-15/
CATEGORIES:Yoga Clubs
END:VEVENT
BEGIN:VEVENT
DTSTART;TZID=America/New_York:20260925T180000
DTEND;TZID=America/New_York:20260925T210000
DTSTAMP:20260420T190027
CREATED:20260420T204137Z
LAST-MODIFIED:20260420T211559Z
UID:10000442-1790359200-1790370000@groundedkids.com
SUMMARY:95 hour Certification Bundle
DESCRIPTION:Get certified to teach kids yoga with depth\, clarity\, and heart. This full four-step bundle gives you the structure to lead\, the tools to adapt\, and the support to make it real. Attend live or online. Mailed materials included for Zoom participants. \n\n\n\nRegister for all 4 steps at once for an extra special discount of $200 off the early bird and $400 off regular registration prices when purchased individually. \n\n\n\nHere are some highlights! \n\n\n\n\n84 Grounded poses including modifications and enhancements\n\n\n\nLesson planning\, theming\, class structure\, scope and sequencing that engages and inspires various populations\n\n\n\nSpecialized mini flows and mantras to balance each chakra and practice creating ones with purpose\n\n\n\nHow to teach 11 essential alignments to children with skill\, clarity and creativity\n\n\n\nGeneral anatomy and physiology\n\n\n\nConduct management based on each student’s constitution and prevailing elements\n\n\n\nCommon scenarios including potential behavioral challenges and strategies for dealing with them\n\n\n\nThe what\, why and how of yoga for children with Down Syndrome\, Autism Spectrum Disorder\, ADHD and other special needs\n\n\n\nSkills to assess and effectively respond to the individual child through group and personalized yoga classes\n\n\n\nPractical teaching experience with ages 3-teens and those with special needs\n\n\n\nLiterature\, art\, storytelling\, music and games as elevations\n\n\n\nFine tune observation skills\, teach to what you see\, and learn effective manual and verbal adjustments\n\n\n\nPersonalized feedback to polish your teaching practices to become an effective\, dynamic teacher\n\n\n\nHow to bring yoga into a school and it’s impact on students\, teachers\, administration and the community\n\n\n\nCurriculum-based yoga for P.E.\, Health\, and in a classroom with desks\n\n\n\nTrauma Sensitive yoga training for youth\n\n\n\nUser friendly info about PTSD and Neurological changes from trauma\, chronic pain and recurrent stress\n\n\n\nIntrospection and conversations to inspire best practices when teaching yoga to children\n\n\n\nMindfulness\, meditation\, mudras and breathing techniques appropriate for ages 3 – teens\n\n\n\nCreate your vision based action plan and receive tools to support your business\n\n\n\n\nFor a more comprehensive list of what is included in each step\, including all of the materials that will be mailed to you if you attend on Zoom\,  please see the detailed course descriptions under step 1 – 4 trainings.  
URL:https://groundedkids.com/event/95-hour-certification-bundle/
LOCATION:House of Grounded\, 115 Milton Park Ct\, Alpharetta\, Georgia\, 30022\, United States
CATEGORIES:95 hour Certification Bundle,Trainings
ATTACH;FMTTYPE=image/png:https://groundedkids.com/wp-content/uploads/2025/06/Transparent-Price-Structure.png
END:VEVENT
BEGIN:VEVENT
DTSTART;TZID=America/New_York:20260925T180000
DTEND;TZID=America/New_York:20260927T183000
DTSTAMP:20260420T190027
CREATED:20260420T165906Z
LAST-MODIFIED:20260420T210106Z
UID:10000438-1790359200-1790533800@groundedkids.com
SUMMARY:Step 1: Get Grounded in Children’s Yoga 
DESCRIPTION:This 22-hour training can be taken as a standalone course or used as the first step toward full Grounded Kids Yoga certification. \n\n\n\nWhat You’ll Learn: \n\n\n\n\nA full introduction to the Grounded Kids Yoga methodology and core teaching framework.\n\n\n\nProficiency in our complete set of 84 kid-friendly yoga poses including modifications\, enhancements\, and age-appropriate benefits.\n\n\n\nAn overview of child development through the lens of the chakra system\, plus how to translate that knowledge into practical tools for self-awareness.\n\n\n\nChakra-specific mini flows and mantras\, using our 5 Elements Flows Poster Set and Chakra Pose Posters.\n\n\n\nTechniques to teach alignment with clarity\, creativity\, and structure.\n\n\n\nMindfulness\, meditation\, and mudras designed for kids and teens.\n\n\n\nDevelopmentally appropriate breathwork and self-regulation strategies.\n\n\n\nPartner poses\, group formations\, and games that foster connection and joy.\n\n\n\nGrounded Kids’ classroom management system\, Elemental Conduct\, rooted in the five elements and student constitutional awareness.\n\n\n\nHow to design and deliver a complete\, meaningful yoga class that connects with youth on every level.\n\n\n\nPractice teaching with real feedback and tools that help you feel steady from day one.\n\n\n\n\nTraining Schedule: \n\n\n\n\nFriday\, September 25: 6:00–9:00 PM\n\n\n\nSaturday\, September 26: 9:30 AM–6:30 PM\n\n\n\nSunday\, September 27: 9:30 AM–6:30 PM\n\n\n\n\nEarly Bird Ends September 11\, 2026 \n\n\n\nWhat is Included: Click to see \n\n\n\nGrounded Kids Canvas Tote \n\n\n\nYour printed Step 1 Training Manual \n\n\n\n84-Pose Card Set (6×6) \n\n\n\nMini Pose Cards \n\n\n\nSmall Poster (11×11) \n\n\n\nSuperheroes Curriculum \n\n\n\nChakra Pose Posters Red \n\n\n\nChakra Color Code Posters Red
URL:https://groundedkids.com/event/step-1-get-grounded-in-childrens-yoga/
LOCATION:House of Grounded\, 115 Milton Park Ct\, Alpharetta\, Georgia\, 30022\, United States
CATEGORIES:Step 1,Trainings
ATTACH;FMTTYPE=image/jpeg:https://groundedkids.com/wp-content/uploads/2025/07/kids-yoga-teacher-training-grounded.jpg-2.jpeg
END:VEVENT
BEGIN:VEVENT
DTSTART;TZID=America/New_York:20261016T180000
DTEND;TZID=America/New_York:20261018T183000
DTSTAMP:20260420T190027
CREATED:20260420T175851Z
LAST-MODIFIED:20260420T210119Z
UID:10000439-1792173600-1792348200@groundedkids.com
SUMMARY:Step 2: Teaching Ages 3–6\, Teens\, and Neurodiverse Learners
DESCRIPTION:This 22-hour training can be taken as a standalone course or included as a step toward full Grounded Kids Yoga certification. \n\n\n\nWhat You’ll Learn: \n\n\n\n\nThe specifics and potential outcomes of teaching yoga to kids ages 3–6.\n\n\n\nLesson planning\, songs\, games\, and storytelling that encourage kids of all ages and abilities in seriously playful ways.\n\n\n\nMindfulness and meditation practices for younger children.\n\n\n\nGrounded Kids approach for working with children who have special needs.\n\n\n\nExplore the definition of special needs and appropriate yoga lesson plans for children with Sensory Processing Disorders\, Down Syndrome\, Autism Spectrum Disorder\, ADHD\, Cerebral Palsy\, and others.\n\n\n\nHow\, what\, where\, and why to implement teen-centric themes and practices.\n\n\n\nCreate a big impact with mini yoga flows.\n\n\n\nPractical teaching experience with these populations.\n\n\n\nAn overview of entrainment and sound therapy to complement and enhance your work as a teacher.\n\n\n\nAdvice regarding the inception and logistics of teaching classes in yoga studios\, preschools\, special needs facilities\, high schools\, and sports teams.\n\n\n\nPhysical\, mental\, social\, and emotional child development as applied to the practice of yoga.\n\n\n\n\nTraining Schedule: \n\n\n\n\nFriday\, October 16: 6:00–9:00 PM\n\n\n\nSaturday\, October 17: 9:30 AM–6:30 PM\n\n\n\nSunday\, October 18: 9:30 AM–6:30 PM\n\n\n\n\nEarly Bird Ends October 2\, 2026 \n\n\n\nWhat is Included: Click to see \n\n\n\nA breathing feather \n\n\n\nYour printed Step 2 Training Manual \n\n\n\nChakra Pose Posters Orange & Yellow \n\n\n\nChakra Color Code Posters Orange & Yellow \n\n\n\n5 Elements Flows Poster Set
URL:https://groundedkids.com/event/step-2-teaching-ages-3-6-teens-and-neurodiverse-learners/
LOCATION:House of Grounded\, 115 Milton Park Ct\, Alpharetta\, Georgia\, 30022\, United States
CATEGORIES:Step 2,Trainings
ATTACH;FMTTYPE=image/jpeg:https://groundedkids.com/wp-content/uploads/2025/07/step-2-expand-your-reach-kids-yoga-training.jpg.jpeg
END:VEVENT
BEGIN:VEVENT
DTSTART;TZID=America/New_York:20261113T180000
DTEND;TZID=America/New_York:20261115T183000
DTSTAMP:20260420T190027
CREATED:20260420T193436Z
LAST-MODIFIED:20260420T210128Z
UID:10000440-1794592800-1794767400@groundedkids.com
SUMMARY:Step 3: Refine Your Teaching\, Include Creativity & Family Yoga
DESCRIPTION:This 22-hour training has a prerequisite of Step 1: Get Grounded in Children’s Yoga \n\n\n\nWhat You’ll Learn: \n\n\n\n\nSystematically refine your teaching skills\n\n\n\nLearn how to harness the power of each of the 5 elements to polish your own practice and teaching delivery.\n\n\n\nExpand your understanding of each part of a Grounded Kids lesson plan.\n\n\n\nExperience the elements of a lesson plan in action – teach\, reflect and refine.\n\n\n\nCreate themes that inspire and motivate students of all ages and abilities.\n\n\n\nGo deeper into the Grounded Kids 11 essential alignment actions.\n\n\n\nExplore effective sequencing and smooth transitioning.\n\n\n\nElevate your classes by effectively including literature\, art\, music and more.\n\n\n\nDiscover what it means for you to teach with finesse and authenticity.\n\n\n\nFine tune observation skills\, teach to what you see\, and learn the art of effective verbal adjustments.\n\n\n\nCreate and teach a dynamic Family Yoga class.\n\n\n\n\nTraining Schedule: \n\n\n\n\nFriday\, November 13: 6:00–9:00 PM\n\n\n\nSaturday\, November 14: 9:30 AM–6:30 PM\n\n\n\nSunday\, November 15: 9:30 AM–6:30 PM\n\n\n\n\nEarly Bird Ends November 1\, 2026 \n\n\n\nWhat is Included: Click to see \n\n\n\nChakra Color Code Posters Green & Blue \n\n\n\nYour printed Step 3 Training Manual \n\n\n\n5 Elements Curriculum \n\n\n\n5 Elements Student Workbook \n\n\n\nChakra Pose Posters Green & Blue
URL:https://groundedkids.com/event/step-3-refine-your-teaching-include-creativity-family-yoga/
LOCATION:House of Grounded\, 115 Milton Park Ct\, Alpharetta\, Georgia\, 30022\, United States
CATEGORIES:Step 3,Trainings
ATTACH;FMTTYPE=image/jpeg:https://groundedkids.com/wp-content/uploads/2025/07/step-3-kids-yoga-training-group-photo.png-1.jpeg
END:VEVENT
BEGIN:VEVENT
DTSTART;TZID=America/New_York:20261204T180000
DTEND;TZID=America/New_York:20261206T183000
DTSTAMP:20260420T190027
CREATED:20260420T200138Z
LAST-MODIFIED:20260420T213242Z
UID:10000441-1796407200-1796581800@groundedkids.com
SUMMARY:Step 4: Trauma-Informed\, School Implementation\, Applied Anatomy\, 1-1\, & Business Development
DESCRIPTION:This 22-hour training has a prerequisite of step 1 and at least one other Grounded Kids training step. \n\n\n\nWhat You’ll Learn: \n\n\n\n\nGather to collaborate\, complete and celebrate your Quest for Elevation.\n\n\n\nIntrospection and conversations to inspire best practices when teaching yoga to children.\n\n\n\nTrauma Sensitive yoga training based on up-to-date research and expertise in the field.\n\n\n\nUser friendly information about PTSD and neurological changes that occur from trauma\, chronic pain and recurrent stress.\n\n\n\nProper technique and reasons for manual adjustments.\n\n\n\nGeneral anatomy and physiology as applied to teaching this information to children and teens in yoga.\n\n\n\nPersonalized Yoga – A toolkit for including this offering as a yoga teacher.\n\n\n\nUnderstand how to bring yoga into a school and its impact on students\, teachers\, administration and the community.\n\n\n\nHow to teach a curriculum-based class in a physical education/health department as well as in a classroom with desks.\n\n\n\nDiscuss teaching opportunities and common scenarios including potential behavioral challenges and strategies for dealing with them.\n\n\n\nGet down to business creating your vision and making plans to manifest your dreams. Some specifics include establishing a company\, insurance\, waivers\, and promotional materials.\n\n\n\n\nTraining Schedule: \n\n\n\n\nFriday\, December 4: 6:00–9:00 PM\n\n\n\nSaturday\, December 5: 9:30 AM–6:30 PM\n\n\n\nSunday\, December 6: 9:30 AM–6:30 PM\n\n\n\n\nEarly Bird Ends November 20\, 2026 \n\n\n\nWhat is Included: Click to see \n\n\n\nFocus In Time School Curriculum \n\n\n\nYour printed Step 4 Training Manual \n\n\n\nGrounded in Color Curriculum \n\n\n\nSmall Poster (14×14) \n\n\n\nChakra Pose Posters Indigo & Purple \n\n\n\nChakra Color Code Posters Indigo & Purple
URL:https://groundedkids.com/event/step-4-trauma-informed-school-implementation-applied-anatomy-1-1-business-development-2/
LOCATION:House of Grounded\, 115 Milton Park Ct\, Alpharetta\, Georgia\, 30022\, United States
CATEGORIES:Step 4,Trainings
ATTACH;FMTTYPE=image/png:https://groundedkids.com/wp-content/uploads/2025/07/kids-yoga-step-4-certification-group-pose-circle.jpg-4.png
END:VEVENT
END:VCALENDAR