BEGIN:VCALENDAR
VERSION:2.0
PRODID:-//Grounded Kids Yoga - ECPv6.15.20//NONSGML v1.0//EN
CALSCALE:GREGORIAN
METHOD:PUBLISH
X-ORIGINAL-URL:https://groundedkids.com
X-WR-CALDESC:Events for Grounded Kids Yoga
REFRESH-INTERVAL;VALUE=DURATION:PT1H
X-Robots-Tag:noindex
X-PUBLISHED-TTL:PT1H
BEGIN:VTIMEZONE
TZID:America/New_York
BEGIN:DAYLIGHT
TZOFFSETFROM:-0500
TZOFFSETTO:-0400
TZNAME:EDT
DTSTART:20250309T070000
END:DAYLIGHT
BEGIN:STANDARD
TZOFFSETFROM:-0400
TZOFFSETTO:-0500
TZNAME:EST
DTSTART:20251102T060000
END:STANDARD
BEGIN:DAYLIGHT
TZOFFSETFROM:-0500
TZOFFSETTO:-0400
TZNAME:EDT
DTSTART:20260308T070000
END:DAYLIGHT
BEGIN:STANDARD
TZOFFSETFROM:-0400
TZOFFSETTO:-0500
TZNAME:EST
DTSTART:20261101T060000
END:STANDARD
BEGIN:DAYLIGHT
TZOFFSETFROM:-0500
TZOFFSETTO:-0400
TZNAME:EDT
DTSTART:20270314T070000
END:DAYLIGHT
BEGIN:STANDARD
TZOFFSETFROM:-0400
TZOFFSETTO:-0500
TZNAME:EST
DTSTART:20271107T060000
END:STANDARD
END:VTIMEZONE
BEGIN:VEVENT
DTSTART;TZID=America/New_York:20260313T143000
DTEND;TZID=America/New_York:20260313T153000
DTSTAMP:20260421T002931
CREATED:20251205T172903Z
LAST-MODIFIED:20251205T174818Z
UID:10000383-1773412200-1773415800@groundedkids.com
SUMMARY:Highpoint Yoga Club spring 2026
DESCRIPTION:
URL:https://groundedkids.com/event/highpoint-yoga-club-spring-2026/2026-03-13/
LOCATION:Georgia
CATEGORIES:Yoga Clubs
END:VEVENT
BEGIN:VEVENT
DTSTART;TZID=America/New_York:20260313T143000
DTEND;TZID=America/New_York:20260313T153000
DTSTAMP:20260421T002931
CREATED:20251218T171953Z
LAST-MODIFIED:20251218T172828Z
UID:10000429-1773412200-1773415800@groundedkids.com
SUMMARY:Ocee Yoga Club Spring 2026
DESCRIPTION:
URL:https://groundedkids.com/event/ocee-yoga-club-spring-2026/2026-03-13/
LOCATION:Georgia
CATEGORIES:Yoga Clubs
END:VEVENT
END:VCALENDAR